BEGIN:VCALENDAR
VERSION:2.0
PRODID:-//hacksw/handcal//NONSGML v1.0//EN
BEGIN:VEVENT
UID:8948f25e6547cb87c3a163a07e224627
DTSTAMP:20260420T183339Z

DTSTART:20241024T170000
DTEND:20241024T180000
SUMMARY:Introdution to Tactical Civics TM Seminar
DESCRIPTION:This FREE seminar will introduce attendees to the role of citizens under our Constitution. Tactical Civics TM chapters are present in over 1650 counties across the nation and are growing, briefing, organizing and training for a full-spectrum way of life . Membership and online training are  explained in this seminar. Learn what  public school civics don't teach about the supreme law of the land,  our constitutions (federal and state).  Light snacks and Q&amp;A time are included in the seminar. Invite a friend and join us! Hosted by Jon &amp; Sue Ellis of Mt. Chase.\n\nWatch Our Video

X-ALT-DESC;FMTTYPE=text/html:<!DOCTYPE HTML PUBLIC "-//W3C//DTD HTML 3.2//EN">\n<HTML>\n<HEAD>\n<META NAME="Generator" CONTENT="MS Exchange Server version 08.00.0681.000">\n<TITLE></TITLE>\n</HEAD>\n<BODY>\n<!-- Converted from text/rtf format -->\n\n<p>This <strong>FREE</strong> seminar will introduce attendees to the role of citizens under our Constitution. Tactical Civics TM chapters are present in over 1650 counties across the nation and are growing, briefing, organizing and training for a full-spectrum way of life . Membership and online training are  explained in this seminar. Learn what  public school civics don't teach about the supreme law of the land,  our constitutions (federal and state).  Light snacks and Q&amp;A time are included in the seminar. Invite a friend and join us! Hosted by Jon &amp; Sue Ellis of Mt. Chase.<br /><br /><a href="https://rumble.com/v5ipa7p-hijacking-of-america-and-the-tactical-civics-solution-update-oct-2024.html?e9s=src_v1_ucp" target="_blank" rel="noopener">Watch Our Video</a></p>\n\n</BODY>\n</HTML>

LOCATION:1963, Medway Road, Medway, Penobscot County, Maine, 04460, United States
END:VEVENT

END:VCALENDAR
